BEGIN:VCALENDAR
VERSION:2.0
PRODID:-//Jorge Xapa - ECPv6.15.17//NONSGML v1.0//EN
CALSCALE:GREGORIAN
METHOD:PUBLISH
X-ORIGINAL-URL:https://jorgexapa.com
X-WR-CALDESC:Events for Jorge Xapa
REFRESH-INTERVAL;VALUE=DURATION:PT1H
X-Robots-Tag:noindex
X-PUBLISHED-TTL:PT1H
BEGIN:VTIMEZONE
TZID:Europe/Madrid
BEGIN:DAYLIGHT
TZOFFSETFROM:+0100
TZOFFSETTO:+0200
TZNAME:CEST
DTSTART:20240331T010000
END:DAYLIGHT
BEGIN:STANDARD
TZOFFSETFROM:+0200
TZOFFSETTO:+0100
TZNAME:CET
DTSTART:20241027T010000
END:STANDARD
BEGIN:DAYLIGHT
TZOFFSETFROM:+0100
TZOFFSETTO:+0200
TZNAME:CEST
DTSTART:20250330T010000
END:DAYLIGHT
BEGIN:STANDARD
TZOFFSETFROM:+0200
TZOFFSETTO:+0100
TZNAME:CET
DTSTART:20251026T010000
END:STANDARD
BEGIN:DAYLIGHT
TZOFFSETFROM:+0100
TZOFFSETTO:+0200
TZNAME:CEST
DTSTART:20260329T010000
END:DAYLIGHT
BEGIN:STANDARD
TZOFFSETFROM:+0200
TZOFFSETTO:+0100
TZNAME:CET
DTSTART:20261025T010000
END:STANDARD
BEGIN:DAYLIGHT
TZOFFSETFROM:+0100
TZOFFSETTO:+0200
TZNAME:CEST
DTSTART:20270328T010000
END:DAYLIGHT
BEGIN:STANDARD
TZOFFSETFROM:+0200
TZOFFSETTO:+0100
TZNAME:CET
DTSTART:20271031T010000
END:STANDARD
END:VTIMEZONE
BEGIN:VEVENT
DTSTART;TZID=Europe/Madrid:20250918T190000
DTEND;TZID=Europe/Madrid:20260517T160000
DTSTAMP:20260420T164455
CREATED:20250226T201410Z
LAST-MODIFIED:20250612T113631Z
UID:1380-1758222000-1779033600@jorgexapa.com
SUMMARY:Libido Ongoing Group 2025-2026
DESCRIPTION:Fundamentos de la Libido –\nGrupo de Trabajo Continuo con Lucie Nerot\n4 Encuentros Residenciales en La Picotière\, Villetrun\, cerca de Vendôme\, Francia.\nDESCRIPCIÓN:\nEste Grupo de Trabajo Continuo es una oportunidad para despertar nuestra vitalidad\, la energía esencial que nutre nuestra sexualidad y nuestra creatividad\, y desplegar el abanico de sus posibilidades. \nAprenderemos a comprender mejor nuestra propia libido\, a atrevernos a conectar con los demás cuando esta energía esté presente\, al tiempo que “fortalecemos” límites saludables. \nCon el apoyo del grupo\, podemos liberar las partes de nosotros mismos que han estado bloqueadas o restringidas. Finalmente\, volvernos uno con el placer y lo sagrado\, para continuar sanando nuestras heridas y alimentando nuestra alegría. Bailaremos y exploraremos principalmente a través del movimiento. \nTambién habrá momentos de intercambio y profundización de conocimientos en torno a la sexualidad\, momentos de creatividad a través del dibujo o la escritura. \nPor otro lado\, en este curso no se permite desnudez ni contacto genital. Siempre puedes elegir a tu pareja o elegir quedarte solo si eso es mejor para ti. Todos los géneros y orientaciones sexuales son bienvenidos. \nPuedes venir solo o en pareja. Caminar juntos durante un año\, con encuentros residenciales\, nos permite crecer en confianza\, profundizar y permitir una expresión plena de nuestra alegría de ser sexuales y creativos. \nSe recomiendan por lo menos 15 horas de práctica de danza consciente como requisito previo. \nMÁS INFORMACIÓN EN ESTE VÍDEO SOBRE QUÉ SON LOS FUNDAMENTOS DE LA LIBIDO.\nVídeo Workshop Libido Ongoing 2025-2026 (Subtitulado Español)\nVídeo Libido Fundamentals @ VIMEO (Inglés) \nEL TALLER SERÁ IMPARTIDO EN INGLÉS y FRANCÉS. (algunas consignas podrían ser traducidas al Español en caso de ser necesario) \nUBICACIÓN:\nLa Picotière\, Villetrun\, cerca de Vendôme\, Francia. (aproximadamente 45 min de París en Tren de Gran Velocidad)\nVer Mapa \nFECHAS:\nMódulo 1: En Nombre del Cuerpo: 18.Sept.2025 (19.00h) – 21.Sept.2025 (16.00h) + INFO\nMódulo 2: Dar y Recibir: 27.Nov.2025 (19.00h) – 30.Nov.2025 (16.00h) + INFO\nMódulo 3: Territorios Salvajes: 12.Mzo.2026 (19.00h) – 15.Mzo.2026 (16.00h) + INFO\nMódulo 4: En el Corazón del Placer: 14.May.2026 (19.00h) – 17.May.2026 (16.00h) + INFO \nPRECIO:\nValor Regular: 1400€\nEarly Bird: 1260€ (Pago total antes del 15 de mayo de 2025)\nTarifa para Equipo (plazas limitadas): 700€ \nO en 2 pagos:\nPrimer pago – 710€\, Segundo pago – 700€\nPago anticipado – 640€\, Segundo pago 630€\nPago por equipos – 360€\, Segundo pago 350€ \nO en 4 pagos:\nPrimer pago – 440€\, Segundo pago 380€\, Tercer pago 340€\, Cuarto pago 270€\nPago anticipado – 400€\, Segundo pago 350€\, Tercer pago 320€\, Cuarto pago 220€\nPago por equipos – 230€\, Segundo pago 190€\, Tercer pago 170€\, Cuarto pago 140€ \nPensión completa en alojamiento residencial:\n255€ por módulo en habitación compartida ó 315€ en habitación individual. \nRegistro y Pagos directamente con Lucie Nerot. Profesora y formadora del curriculum de Open Floor con mas de 20 años de experiencia en movimientos consciente.
URL:https://jorgexapa.com/event/libido-ongoing-group-2025-2026/
LOCATION:La Picotière\, Vendôme\, Francia\, 11 rue de la Picotière\, Villetrun\, Loir-et-Cher\, 41100\, France
CATEGORIES:Workshops
ATTACH;FMTTYPE=image/png:https://jorgexapa.com/wp-content/uploads/2025/02/Libido-Ongoing-Agosto-2025.png
ORGANIZER;CN="Lucie Nerot":MAILTO:Lnerot@yahoo.fr
END:VEVENT
BEGIN:VEVENT
DTSTART;TZID=Europe/Madrid:20251127T190000
DTEND;TZID=Europe/Madrid:20251130T160000
DTSTAMP:20260420T164455
CREATED:20250321T091903Z
LAST-MODIFIED:20250321T094005Z
UID:1702-1764270000-1764518400@jorgexapa.com
SUMMARY:Libido Ongoing Group 2025-2026 - MÓDULO 02
DESCRIPTION:Fundamentos de la Libido –\nGrupo de Trabajo Contínuo con Lucie Nerot\n2do Encuentro Residencial en La Picotière\, Villetrun\, cerca de Vendôme\, Francia.\nMÓDULO 02 \nDar y Recibir…\nEl ser humano que somos nació del encuentro de un óvulo y un espermatozoide. En esa huella original se encuentran muchos recursos para dar y recibir.\nEsto es\, obviamente\, clave en una relación con alguien\, pero también puede aplicarse a nuestra relación con nosotros mismos o con un proyecto. \nEn este módulo tendremos la oportunidad de expresar claramente lo que nos gusta y lo que no\, y cultivar límites saludables para poder explorar con seguridad.\nEntonces estaremos listos para descubrir nuestra potencia y dejar que tenga una vida plena\, descubrir el poder de recibir y sentirnos nutridos por él. \nElementos del Curriculum de Open Floor Movement Practice que abordaremos:\n– Necesidad Relacional: Conexión.\n– Dimensión de Embodiment Emocional.\n– Recursos Fundamentales de Movimiento (CMR): Vector / Expansión y Contracción.\n– Diferenciación: Yo vs. Tú / Intención vs. Impacto. \n*** NOTA IMPORTANTE: Este NO es un taller independiente sino que forma parte de un programa de trabajo continuo que inicia el 18 de Septiembre 2025 y termina el 17 de Mayo 2026. Para más información del Programa de Trabajo Continuo entra AQUÍ \n 
URL:https://jorgexapa.com/event/libido-ongoing-group-2025-2026-modulo-02/
LOCATION:La Picotière\, Vendôme\, Francia\, 11 rue de la Picotière\, Villetrun\, Loir-et-Cher\, 41100\, France
CATEGORIES:Workshops
ATTACH;FMTTYPE=image/jpeg:https://jorgexapa.com/wp-content/uploads/2025/02/LF-Ongoing-Module_2.jpg
ORGANIZER;CN="Lucie Nerot":MAILTO:Lnerot@yahoo.fr
END:VEVENT
END:VCALENDAR