BEGIN:VCALENDAR
VERSION:2.0
PRODID:-//Jorge Xapa - ECPv6.15.17//NONSGML v1.0//EN
CALSCALE:GREGORIAN
METHOD:PUBLISH
X-ORIGINAL-URL:https://jorgexapa.com
X-WR-CALDESC:Events for Jorge Xapa
REFRESH-INTERVAL;VALUE=DURATION:PT1H
X-Robots-Tag:noindex
X-PUBLISHED-TTL:PT1H
BEGIN:VTIMEZONE
TZID:Europe/Madrid
BEGIN:DAYLIGHT
TZOFFSETFROM:+0100
TZOFFSETTO:+0200
TZNAME:CEST
DTSTART:20240331T010000
END:DAYLIGHT
BEGIN:STANDARD
TZOFFSETFROM:+0200
TZOFFSETTO:+0100
TZNAME:CET
DTSTART:20241027T010000
END:STANDARD
BEGIN:DAYLIGHT
TZOFFSETFROM:+0100
TZOFFSETTO:+0200
TZNAME:CEST
DTSTART:20250330T010000
END:DAYLIGHT
BEGIN:STANDARD
TZOFFSETFROM:+0200
TZOFFSETTO:+0100
TZNAME:CET
DTSTART:20251026T010000
END:STANDARD
BEGIN:DAYLIGHT
TZOFFSETFROM:+0100
TZOFFSETTO:+0200
TZNAME:CEST
DTSTART:20260329T010000
END:DAYLIGHT
BEGIN:STANDARD
TZOFFSETFROM:+0200
TZOFFSETTO:+0100
TZNAME:CET
DTSTART:20261025T010000
END:STANDARD
END:VTIMEZONE
BEGIN:VEVENT
DTSTART;TZID=Europe/Madrid:20250818T134500
DTEND;TZID=Europe/Madrid:20250822T173000
DTSTAMP:20260414T062953
CREATED:20250311T184900Z
LAST-MODIFIED:20250612T102203Z
UID:1643-1755524700-1755883800@jorgexapa.com
SUMMARY:Embracing Change
DESCRIPTION:Embracing Change – Aceptando el cambio\nWorkshop Presencial de 5 días en Findhorn\, Escocia\, Reino Unido.\nAcepta los cambios de la vida con este taller de danza y movimiento consciente. \nVivimos en tiempos de cambios “sin precedentes”. La necesidad de adaptarse con recursos es una habilidad esencial para la vida. \nLos desafíos de la vida pueden fácilmente agobiarnos\, tanto los pequeños desafíos de la vida cotidiana como los grandes desafíos que enfrenta nuestro planeta. Con tantas cosas que se sienten fuera de nuestro control\, es importante que nos unamos y encontremos caminos de acción empoderada que ayuden a aliviar la sensación de impotencia. Bailaremos mientras aprendemos a aceptar los cambios en nuestras vidas. \nLo que aprenderás en el Workshop:  \n– Desarrollar una mayor sensibilidad para reconocer y responder a la información que tu cuerpo te comunica en un entorno de apoyo y sin prejuicios.\n– Un espacio ideal para validar tu resistencia al cambio y los sentimientos que la acompañan\, aprenderás a aceptar más “lo que es”.\n– Un mayor grado de inteligencia emocional en relación en cómo te sientes acerca de los cambios personales y colectivos que están ocurriendo.\n– Una capacidad desarrollada para escuchar y hablar\, tanto verbal como no verbalmente.\n– Cómo mantenerte centrado y con los pies en la tierra en medio del cambio; ya sea propio\, de otras personas. \nPara quiénes está dirigido este Workshop: \nEste taller está abierto a todas las personas mayores de 18 años y para aquellos que aprecian o sienten curiosidad por la sabiduría inherente que se encuentra en nuestra inteligencia somática. \nNivel de experiencia: \nSe aceptan danzantes principiantes y avanzados.\nSe recomienda al menos haber asistido a una sesión de práctica de movimiento consciente (por ejemplo\, Open Floor\, 5Rhythms® o Movement Medicine).\nEste taller cuenta para la capacitación de profesores de Open Floor. \nImpartido:\nDeborah Lewin – Profesora\, Co-Fundadora de Open Floor y Formadora del curriculum OFI\nhttps://www.vitalmoves.co.uk  \nAsistido por Open Floor Teachers: \n– Aileen Reid – Escocia\n– Subhanaya Luthmann – Escocia\n– Jorge Xapa – España \nEL TALLER SERÁ IMPARTIDO EN INGLÉS (algunas consignas podrían ser traducidas al Español en caso de ser necesario) \nFecha: \nDel Lunes 18 al Viernes 22 de Agosto de 2025\nApertura de registro el Lunes a las 13:45h (primera sesión a las 14:30h)\,\nCierre del Workshop a las 17:30h del Viernes. \nLugar:\nUniversal Hall\, The Park Ecovillage\, Findhorn\, Forres IV36 3TZ\, Escocia\nMapa \nPrecio:\n295£ (aprox. 350€) hasta el 23 de junio | 350£ (aprox. 415€) a partir del 24 de junio\nNo incluye hospedaje ni alimentación \nRegistro: \nLink de Registro \nOpciones de Hospedaje: \n– The Park Ecovillage\n– Findhorn Bay Holiday Park\n– Airbnb \nAlimentos:\nSi estas en un Airbnb o similar puedes comprar tu propia comida en el supermercado más cercano. \nO si lo deseas El Phoenix Café\, a un costado de la la sala ofrece sus servicios a los participantes. Los detalles completos del menú y el formulario de reserva se enviarán por correo electrónico unos días antes del taller. \nCómo llegar: \nViajar en tren: la estación de tren más cercana es Forres.\nViajar en avión: los aeropuertos más cercanos son Inverness y Aberdeen.\nSi viajas a Edimburgo o Glasgow\, es posible que pueda organizar un viaje compartido con otros participantes que conduzcan desde cualquiera de las dos ciudades. \nNuestro objetivo es coordinar el uso compartido de transporte y taxis entre los participantes. \nQué llevar: \n– Ropa suelta/cómoda para moverse libremente.\n– Ropa de abrigo\, jersey o similar.\n– Zapatos para caminar (hay paseos locales muy bonitos).\n– Cuaderno y bolígrafo.\n– Botella de agua. \n\n\n🎟️ Reserva y Pago de Plaza AQUÍ  \n\n 
URL:https://jorgexapa.com/event/embracing-change/
LOCATION:Universal Hall\, The Park Ecovillage\, Findhorn\, Forres\, IV36 3TZ\, United Kingdom
CATEGORIES:Workshops
ATTACH;FMTTYPE=image/png:https://jorgexapa.com/wp-content/uploads/2025/02/EmbracingChange_Aug2025_square-01-01.png
ORGANIZER;CN="Deborah Lewin":MAILTO:admin@vitalmoves.co.uk
END:VEVENT
END:VCALENDAR